BEGIN:VCALENDAR
VERSION:2.0
PRODID:-//Sabre//Sabre VObject 4.5.8//EN
CALSCALE:GREGORIAN
BEGIN:VEVENT
UID:sabre-vobject-8f3eaeb3-6f3b-44f2-9ded-e816e5a2eeda
DTSTAMP:20260420T020822Z
SUMMARY:Parent's Day Out
DESCRIPTION:
X-ALT-DESC:FMTTYPE=text/html:<!DOCTYPE HTML PUBLIC "-//W3C//DTD HTML 3.2//E
 N"><HTML></HTML>
CREATED;TZID=Asia/Seoul:20221201T093733
URL;VALUE=URI:https://daegu.armymwr.com/calendar/event
DTSTART;TZID=Asia/Seoul:20221210T090000
DTEND;TZID=Asia/Seoul:20221210T140000
SEQUENCE:0
END:VEVENT
END:VCALENDAR
