BEGIN:VCALENDAR
VERSION:2.0
PRODID:-//Sabre//Sabre VObject 4.5.8//EN
CALSCALE:GREGORIAN
BEGIN:VEVENT
UID:sabre-vobject-a681b152-6b94-4b7d-b934-1aae0ccab5ac
DTSTAMP:20260420T020827Z
SUMMARY:Temple & Shopping (Busan)
DESCRIPTION:
X-ALT-DESC:FMTTYPE=text/html:<!DOCTYPE HTML PUBLIC "-//W3C//DTD HTML 3.2//E
 N"><HTML></HTML>
CREATED;TZID=Asia/Seoul:20221201T085353
URL;VALUE=URI:https://daegu.armymwr.com/calendar/event
DTSTART;TZID=Asia/Seoul:20221210T080000
DTEND;TZID=Asia/Seoul:20221210T230000
SEQUENCE:0
END:VEVENT
END:VCALENDAR
