BEGIN:VCALENDAR
VERSION:2.0
PRODID:-//Sabre//Sabre VObject 4.5.8//EN
CALSCALE:GREGORIAN
BEGIN:VEVENT
UID:sabre-vobject-f5f51b84-1970-44b0-a577-65af59becacb
DTSTAMP:20260420T103831Z
SUMMARY:Hot Spring Spa & Water Park (Ye-San)
DESCRIPTION:
X-ALT-DESC:FMTTYPE=text/html:<!DOCTYPE HTML PUBLIC "-//W3C//DTD HTML 3.2//E
 N"><HTML></HTML>
CREATED;TZID=Asia/Seoul:20221123T100153
URL;VALUE=URI:https://daegu.armymwr.com/calendar/event
DTSTART;TZID=Asia/Seoul:20221203T080000
DTEND;TZID=Asia/Seoul:20221203T220000
SEQUENCE:0
END:VEVENT
END:VCALENDAR
