BEGIN:VCALENDAR
VERSION:2.0
PRODID:-//Sabre//Sabre VObject 4.5.8//EN
CALSCALE:GREGORIAN
BEGIN:VEVENT
UID:sabre-vobject-96248d65-b867-4170-af58-4c9332ea4347
DTSTAMP:20260420T182258Z
SUMMARY:River Cruise\, Market & Skywalk Tour (Dan-Yang)
DESCRIPTION:
X-ALT-DESC:FMTTYPE=text/html:<!DOCTYPE HTML PUBLIC "-//W3C//DTD HTML 3.2//E
 N"><HTML></HTML>
CREATED;TZID=Asia/Seoul:20221109T155445
URL;VALUE=URI:https://daegu.armymwr.com/calendar/event
DTSTART;TZID=Asia/Seoul:20221119T070000
DTEND;TZID=Asia/Seoul:20221119T210000
SEQUENCE:0
END:VEVENT
END:VCALENDAR
