BEGIN:VCALENDAR
VERSION:2.0
PRODID:-//Sabre//Sabre VObject 4.5.8//EN
CALSCALE:GREGORIAN
BEGIN:VEVENT
UID:sabre-vobject-e260c84b-e217-4c68-bc9f-5801d7356636
DTSTAMP:20260420T121056Z
SUMMARY:Beef & Reef
DESCRIPTION:
X-ALT-DESC:FMTTYPE=text/html:<!DOCTYPE HTML PUBLIC "-//W3C//DTD HTML 3.2//E
 N"><HTML></HTML>
CREATED;TZID=Asia/Seoul:20221207T101812
URL;VALUE=URI:https://daegu.armymwr.com/calendar/event
DTSTART;TZID=Asia/Seoul:20221104T160000
DTEND;TZID=Asia/Seoul:20221104T203000
SEQUENCE:0
END:VEVENT
END:VCALENDAR
