BEGIN:VCALENDAR
VERSION:2.0
PRODID:-//Sabre//Sabre VObject 4.5.8//EN
CALSCALE:GREGORIAN
BEGIN:VEVENT
UID:sabre-vobject-a6439470-229f-48dd-94e6-1c3147faab41
DTSTAMP:20260420T194858Z
SUMMARY:ManBulSa Temple & Padosori gil (Yeong-Cheon)
DESCRIPTION:
X-ALT-DESC:FMTTYPE=text/html:<!DOCTYPE HTML PUBLIC "-//W3C//DTD HTML 3.2//E
 N"><HTML></HTML>
CREATED;TZID=Asia/Seoul:20221104T150239
URL;VALUE=URI:https://daegu.armymwr.com/calendar/event
DTSTART;TZID=Asia/Seoul:20221112T080000
DTEND;TZID=Asia/Seoul:20221112T213000
SEQUENCE:0
END:VEVENT
END:VCALENDAR
