BEGIN:VCALENDAR
VERSION:2.0
PRODID:-//Sabre//Sabre VObject 4.5.8//EN
CALSCALE:GREGORIAN
BEGIN:VEVENT
UID:sabre-vobject-c507940b-f400-467a-b3bc-98b09d3e8c9a
DTSTAMP:20260422T014723Z
SUMMARY:CORNHOLE Competition
DESCRIPTION:
X-ALT-DESC:FMTTYPE=text/html:<!DOCTYPE HTML PUBLIC "-//W3C//DTD HTML 3.2//E
 N"><HTML></HTML>
CREATED;TZID=Asia/Seoul:20221017T094826
URL;VALUE=URI:https://daegu.armymwr.com/calendar/event
DTSTART;TZID=Asia/Seoul:20221027T180000
DTEND;TZID=Asia/Seoul:20221027T203000
SEQUENCE:0
END:VEVENT
END:VCALENDAR
