BEGIN:VCALENDAR
VERSION:2.0
PRODID:-//Sabre//Sabre VObject 4.5.8//EN
CALSCALE:GREGORIAN
BEGIN:VEVENT
UID:sabre-vobject-ed09942f-3552-4fb1-b161-9d928b25b58a
DTSTAMP:20260422T051508Z
SUMMARY:HALLOWEEN • FAMILY MOVIE
DESCRIPTION:
X-ALT-DESC:FMTTYPE=text/html:<!DOCTYPE HTML PUBLIC "-//W3C//DTD HTML 3.2//E
 N"><HTML></HTML>
CREATED;TZID=Asia/Seoul:20221011T102037
URL;VALUE=URI:https://daegu.armymwr.com/calendar/event
DTSTART;TZID=Asia/Seoul:20221027T173000
DTEND;TZID=Asia/Seoul:20221027T190000
SEQUENCE:0
END:VEVENT
END:VCALENDAR
