BEGIN:VCALENDAR
VERSION:2.0
PRODID:-//Sabre//Sabre VObject 4.5.8//EN
CALSCALE:GREGORIAN
BEGIN:VEVENT
UID:sabre-vobject-fdbd2341-4849-46a5-94f4-748c2da7c63a
DTSTAMP:20260422T021046Z
SUMMARY:Parent Night Out!
DESCRIPTION:
X-ALT-DESC:FMTTYPE=text/html:<!DOCTYPE HTML PUBLIC "-//W3C//DTD HTML 3.2//E
 N"><HTML></HTML>
CREATED;TZID=Asia/Seoul:20220929T112914
URL;VALUE=URI:https://daegu.armymwr.com/calendar/event
DTSTART;TZID=Asia/Seoul:20221025T183000
DTEND;TZID=Asia/Seoul:20221025T210000
SEQUENCE:0
END:VEVENT
END:VCALENDAR
