BEGIN:VCALENDAR
VERSION:2.0
PRODID:-//Sabre//Sabre VObject 4.5.8//EN
CALSCALE:GREGORIAN
BEGIN:VEVENT
UID:sabre-vobject-0c3246ac-8afd-4f13-9244-70a438f9774b
DTSTAMP:20260422T023035Z
SUMMARY:A DAY BY THE SEA
DESCRIPTION:
X-ALT-DESC:FMTTYPE=text/html:<!DOCTYPE HTML PUBLIC "-//W3C//DTD HTML 3.2//E
 N"><HTML></HTML>
CREATED;TZID=Asia/Seoul:20220929T112550
URL;VALUE=URI:https://daegu.armymwr.com/calendar/event
DTSTART;TZID=Asia/Seoul:20221017T093000
DTEND;TZID=Asia/Seoul:20221017T173000
SEQUENCE:0
END:VEVENT
END:VCALENDAR
