BEGIN:VCALENDAR
VERSION:2.0
PRODID:-//Sabre//Sabre VObject 4.5.8//EN
CALSCALE:GREGORIAN
BEGIN:VEVENT
UID:sabre-vobject-28fb2d08-705e-4a4a-898a-1061785756e4
DTSTAMP:20260422T131509Z
SUMMARY:Cheese Theme Park (Im-Sil) & Chrysanthemum Garden
DESCRIPTION:
X-ALT-DESC:FMTTYPE=text/html:<!DOCTYPE HTML PUBLIC "-//W3C//DTD HTML 3.2//E
 N"><HTML></HTML>
CREATED;TZID=Asia/Seoul:20220929T105111
URL;VALUE=URI:https://daegu.armymwr.com/calendar/event
DTSTART;TZID=Asia/Seoul:20221008T080000
DTEND;TZID=Asia/Seoul:20221008T210000
SEQUENCE:0
END:VEVENT
END:VCALENDAR
