BEGIN:VCALENDAR
VERSION:2.0
PRODID:-//Sabre//Sabre VObject 4.5.8//EN
CALSCALE:GREGORIAN
BEGIN:VEVENT
UID:sabre-vobject-8c7c0e54-1971-4a15-ae47-1abdbe0b4408
DTSTAMP:20260423T080941Z
SUMMARY:Udusan Chulreong Suspension Bridge
DESCRIPTION:
X-ALT-DESC:FMTTYPE=text/html:<!DOCTYPE HTML PUBLIC "-//W3C//DTD HTML 3.2//E
 N"><HTML></HTML>
CREATED;TZID=Asia/Seoul:20220922T153216
URL;VALUE=URI:https://daegu.armymwr.com/calendar/event
DTSTART;TZID=Asia/Seoul:20220924T080000
DTEND;TZID=Asia/Seoul:20220924T170000
SEQUENCE:0
END:VEVENT
END:VCALENDAR
