BEGIN:VCALENDAR
VERSION:2.0
PRODID:-//Sabre//Sabre VObject 4.5.8//EN
CALSCALE:GREGORIAN
BEGIN:VEVENT
UID:sabre-vobject-8b62d905-ebaa-4f0e-9bf0-6db0fde6f335
DTSTAMP:20260422T184727Z
SUMMARY:German Village - Oktoberfest
DESCRIPTION:
X-ALT-DESC:FMTTYPE=text/html:<!DOCTYPE HTML PUBLIC "-//W3C//DTD HTML 3.2//E
 N"><HTML></HTML>
CREATED;TZID=Asia/Seoul:20220922T152045
URL;VALUE=URI:https://daegu.armymwr.com/calendar/event
DTSTART;TZID=Asia/Seoul:20221001T090000
DTEND;TZID=Asia/Seoul:20221001T220000
SEQUENCE:0
END:VEVENT
END:VCALENDAR
