BEGIN:VCALENDAR
VERSION:2.0
PRODID:-//Sabre//Sabre VObject 4.5.8//EN
CALSCALE:GREGORIAN
BEGIN:VEVENT
UID:sabre-vobject-0c12a140-d7ff-41fb-b818-760b41f89a2d
DTSTAMP:20260422T234824Z
SUMMARY:Chicken Marsala
DESCRIPTION:
X-ALT-DESC:FMTTYPE=text/html:<!DOCTYPE HTML PUBLIC "-//W3C//DTD HTML 3.2//E
 N"><HTML></HTML>
CREATED;TZID=Asia/Seoul:20220911T110324
URL;VALUE=URI:https://daegu.armymwr.com/calendar/event
DTSTART;TZID=Asia/Seoul:20220905T160000
DTEND;TZID=Asia/Seoul:20220905T200000
SEQUENCE:0
END:VEVENT
END:VCALENDAR
