BEGIN:VCALENDAR
VERSION:2.0
PRODID:-//Sabre//Sabre VObject 4.5.8//EN
CALSCALE:GREGORIAN
BEGIN:VEVENT
UID:sabre-vobject-6fa3088b-3271-4e04-98ad-3b4a7430f55c
DTSTAMP:20260423T065417Z
SUMMARY:DMZ Tour (Go-Seong)
DESCRIPTION:
X-ALT-DESC:FMTTYPE=text/html:<!DOCTYPE HTML PUBLIC "-//W3C//DTD HTML 3.2//E
 N"><HTML></HTML>
CREATED;TZID=Asia/Seoul:20220911T105959
URL;VALUE=URI:https://daegu.armymwr.com/calendar/event
DTSTART;TZID=Asia/Seoul:20220917T060000
DTEND;TZID=Asia/Seoul:20220917T210000
SEQUENCE:0
END:VEVENT
END:VCALENDAR
