BEGIN:VCALENDAR
VERSION:2.0
PRODID:-//Sabre//Sabre VObject 4.5.8//EN
CALSCALE:GREGORIAN
BEGIN:VEVENT
UID:sabre-vobject-b8f9f167-07c0-4256-a719-5224124cc255
DTSTAMP:20260423T124250Z
SUMMARY:Breakfast
DESCRIPTION:
X-ALT-DESC:FMTTYPE=text/html:<!DOCTYPE HTML PUBLIC "-//W3C//DTD HTML 3.2//E
 N"><HTML></HTML>
CREATED;TZID=Asia/Seoul:20220829T114334
URL;VALUE=URI:https://daegu.armymwr.com/calendar/event
DTSTART;TZID=Asia/Seoul:20220903T070000
DTEND;TZID=Asia/Seoul:20220903T130000
SEQUENCE:0
END:VEVENT
END:VCALENDAR
