BEGIN:VCALENDAR
VERSION:2.0
PRODID:-//Sabre//Sabre VObject 4.5.8//EN
CALSCALE:GREGORIAN
BEGIN:VEVENT
UID:sabre-vobject-911311dd-8be4-4551-b0b0-bb73bfc3a141
DTSTAMP:20260423T063541Z
SUMMARY:Members Dinner Night
DESCRIPTION:
X-ALT-DESC:FMTTYPE=text/html:<!DOCTYPE HTML PUBLIC "-//W3C//DTD HTML 3.2//E
 N"><HTML></HTML>
CREATED;TZID=Asia/Seoul:20241107T104807
URL;VALUE=URI:https://daegu.armymwr.com/calendar/event
DTSTART;TZID=Asia/Seoul:20241120T173000
DTEND;TZID=Asia/Seoul:20241120T200000
SEQUENCE:0
END:VEVENT
END:VCALENDAR
