BEGIN:VCALENDAR
VERSION:2.0
PRODID:-//Sabre//Sabre VObject 4.5.8//EN
CALSCALE:GREGORIAN
BEGIN:VEVENT
UID:sabre-vobject-95ccaec6-8f50-4639-b4f9-b6d958b0cc0c
DTSTAMP:20260423T190449Z
SUMMARY:PAR 3’s CHALLENGE
DESCRIPTION:
X-ALT-DESC:FMTTYPE=text/html:<!DOCTYPE HTML PUBLIC "-//W3C//DTD HTML 3.2//E
 N"><HTML></HTML>
CREATED;TZID=Asia/Seoul:20220812T103645
URL;VALUE=URI:https://daegu.armymwr.com/calendar/event
DTSTART;TZID=Asia/Seoul:20220820T070000
DTEND;TZID=Asia/Seoul:20220820T120000
SEQUENCE:0
END:VEVENT
END:VCALENDAR
