BEGIN:VCALENDAR
VERSION:2.0
PRODID:-//Sabre//Sabre VObject 4.5.8//EN
CALSCALE:GREGORIAN
BEGIN:VEVENT
UID:sabre-vobject-d04a6b29-cd40-4458-98a6-54521a6e7d6c
DTSTAMP:20260423T191844Z
SUMMARY:Pop-up country breakfast
DESCRIPTION:
X-ALT-DESC:FMTTYPE=text/html:<!DOCTYPE HTML PUBLIC "-//W3C//DTD HTML 3.2//E
 N"><HTML></HTML>
CREATED;TZID=Asia/Seoul:20220811T090910
URL;VALUE=URI:https://daegu.armymwr.com/calendar/event
DTSTART;TZID=Asia/Seoul:20220820T090000
DTEND;TZID=Asia/Seoul:20220820T120000
SEQUENCE:0
END:VEVENT
END:VCALENDAR
