BEGIN:VCALENDAR
VERSION:2.0
PRODID:-//Sabre//Sabre VObject 4.5.8//EN
CALSCALE:GREGORIAN
BEGIN:VEVENT
UID:sabre-vobject-76af4e8d-b307-493f-8b60-3e64f1229035
DTSTAMP:20260424T042804Z
SUMMARY:Han-San Battle Festival (Tong-Yeong)
DESCRIPTION:
X-ALT-DESC:FMTTYPE=text/html:<!DOCTYPE HTML PUBLIC "-//W3C//DTD HTML 3.2//E
 N"><HTML></HTML>
CREATED;TZID=Asia/Seoul:20220804T164840
URL;VALUE=URI:https://daegu.armymwr.com/calendar/event
DTSTART;TZID=Asia/Seoul:20220813T140000
DTEND;TZID=Asia/Seoul:20220813T000000
SEQUENCE:0
END:VEVENT
END:VCALENDAR
