BEGIN:VCALENDAR
VERSION:2.0
PRODID:-//Sabre//Sabre VObject 4.5.8//EN
CALSCALE:GREGORIAN
BEGIN:VEVENT
UID:sabre-vobject-f4ff7d3b-9edf-46eb-a923-f961cbd1400c
DTSTAMP:20260424T102641Z
SUMMARY:The Wall Fitness Grand Re-Opening
DESCRIPTION:
X-ALT-DESC:FMTTYPE=text/html:<!DOCTYPE HTML PUBLIC "-//W3C//DTD HTML 3.2//E
 N"><HTML></HTML>
CREATED;TZID=Asia/Seoul:20220804T164436
URL;VALUE=URI:https://daegu.armymwr.com/calendar/event
DTSTART;TZID=Asia/Seoul:20220805T150000
DTEND;TZID=Asia/Seoul:20220805T160000
SEQUENCE:0
END:VEVENT
END:VCALENDAR
