BEGIN:VCALENDAR
VERSION:2.0
PRODID:-//Sabre//Sabre VObject 4.5.8//EN
CALSCALE:GREGORIAN
BEGIN:VEVENT
UID:sabre-vobject-b61880e0-2c96-4b10-8407-086b315b17b9
DTSTAMP:20260423T162650Z
SUMMARY:Headband Making Class
DESCRIPTION:
X-ALT-DESC:FMTTYPE=text/html:<!DOCTYPE HTML PUBLIC "-//W3C//DTD HTML 3.2//E
 N"><HTML></HTML>
CREATED;TZID=Asia/Seoul:20220715T144951
URL;VALUE=URI:https://daegu.armymwr.com/calendar/event
DTSTART;TZID=Asia/Seoul:20220826T173000
DTEND;TZID=Asia/Seoul:20220826T190000
SEQUENCE:0
END:VEVENT
END:VCALENDAR
