BEGIN:VCALENDAR
VERSION:2.0
PRODID:-//Sabre//Sabre VObject 4.5.8//EN
CALSCALE:GREGORIAN
BEGIN:VEVENT
UID:sabre-vobject-1d57f529-5fec-4315-9230-440d3778ce19
DTSTAMP:20260423T174542Z
SUMMARY:ACRYLIC PAINTING CLASS
DESCRIPTION:
X-ALT-DESC:FMTTYPE=text/html:<!DOCTYPE HTML PUBLIC "-//W3C//DTD HTML 3.2//E
 N"><HTML></HTML>
CREATED;TZID=Asia/Seoul:20220715T141705
URL;VALUE=URI:https://daegu.armymwr.com/calendar/event
DTSTART;TZID=Asia/Seoul:20220812T173000
DTEND;TZID=Asia/Seoul:20220812T190000
SEQUENCE:0
END:VEVENT
END:VCALENDAR
