BEGIN:VCALENDAR
VERSION:2.0
PRODID:-//Sabre//Sabre VObject 4.5.8//EN
CALSCALE:GREGORIAN
BEGIN:VEVENT
UID:sabre-vobject-e3bbc79d-5097-4f9b-86a5-03bfe2eeffe8
DTSTAMP:20260424T125940Z
SUMMARY:Karaoke
DESCRIPTION:
X-ALT-DESC:FMTTYPE=text/html:<!DOCTYPE HTML PUBLIC "-//W3C//DTD HTML 3.2//E
 N"><HTML></HTML>
CREATED;TZID=Asia/Seoul:20220804T142809
URL;VALUE=URI:https://daegu.armymwr.com/calendar/event
DTSTART;TZID=Asia/Seoul:20220716T200000
DTEND;TZID=Asia/Seoul:20220716T000000
SEQUENCE:0
END:VEVENT
END:VCALENDAR
