BEGIN:VCALENDAR
VERSION:2.0
PRODID:-//Sabre//Sabre VObject 4.5.8//EN
CALSCALE:GREGORIAN
BEGIN:VEVENT
UID:sabre-vobject-cb0b8769-5518-489c-8c1a-d9591a793bef
DTSTAMP:20260424T210448Z
SUMMARY:Fried Fish & Chip Dinner
DESCRIPTION:
X-ALT-DESC:FMTTYPE=text/html:<!DOCTYPE HTML PUBLIC "-//W3C//DTD HTML 3.2//E
 N"><HTML></HTML>
CREATED;TZID=Asia/Seoul:20220705T153503
URL;VALUE=URI:https://daegu.armymwr.com/calendar/event
DTSTART;TZID=Asia/Seoul:20220701T160000
DTEND;TZID=Asia/Seoul:20220701T203000
SEQUENCE:0
END:VEVENT
END:VCALENDAR
