BEGIN:VCALENDAR
VERSION:2.0
PRODID:-//Sabre//Sabre VObject 4.5.8//EN
CALSCALE:GREGORIAN
BEGIN:VEVENT
UID:sabre-vobject-d9098350-a8d8-4ef2-b28f-96b166f915d9
DTSTAMP:20260425T103155Z
SUMMARY:Southern Fried Chicken Dinner
DESCRIPTION:
X-ALT-DESC:FMTTYPE=text/html:<!DOCTYPE HTML PUBLIC "-//W3C//DTD HTML 3.2//E
 N"><HTML></HTML>
CREATED;TZID=Asia/Seoul:20220705T150000
URL;VALUE=URI:https://daegu.armymwr.com/calendar/event
DTSTART;TZID=Asia/Seoul:20220704T160000
DTEND;TZID=Asia/Seoul:20220704T203000
SEQUENCE:0
END:VEVENT
END:VCALENDAR
