BEGIN:VCALENDAR
VERSION:2.0
PRODID:-//Sabre//Sabre VObject 4.5.8//EN
CALSCALE:GREGORIAN
BEGIN:VEVENT
UID:sabre-vobject-1ab1dd3f-0ab1-41ca-85d8-9b669b6b3d82
DTSTAMP:20260425T181522Z
SUMMARY:LibertyFest
DESCRIPTION:
X-ALT-DESC:FMTTYPE=text/html:<!DOCTYPE HTML PUBLIC "-//W3C//DTD HTML 3.2//E
 N"><HTML></HTML>
CREATED;TZID=Asia/Seoul:20220622T101931
URL;VALUE=URI:https://daegu.armymwr.com/calendar/event
DTSTART;TZID=Asia/Seoul:20220701T160000
DTEND;TZID=Asia/Seoul:20220701T210000
SEQUENCE:0
END:VEVENT
END:VCALENDAR
