BEGIN:VCALENDAR
VERSION:2.0
PRODID:-//Sabre//Sabre VObject 4.5.8//EN
CALSCALE:GREGORIAN
BEGIN:VEVENT
UID:sabre-vobject-6408e590-5b2f-4dbf-be6f-e3819fa58361
DTSTAMP:20260425T182615Z
SUMMARY:Watermelon 5k Fun Run & Walk
DESCRIPTION:
X-ALT-DESC:FMTTYPE=text/html:<!DOCTYPE HTML PUBLIC "-//W3C//DTD HTML 3.2//E
 N"><HTML></HTML>
CREATED;TZID=Asia/Seoul:20220621T092553
URL;VALUE=URI:https://daegu.armymwr.com/calendar/event
DTSTART;TZID=Asia/Seoul:20220630T061500
DTEND;TZID=Asia/Seoul:20220630T081500
SEQUENCE:0
END:VEVENT
END:VCALENDAR
