BEGIN:VCALENDAR
VERSION:2.0
PRODID:-//Sabre//Sabre VObject 4.5.8//EN
CALSCALE:GREGORIAN
BEGIN:VEVENT
UID:sabre-vobject-1d899917-5057-403e-b7c1-88196f90de95
DTSTAMP:20260425T115809Z
SUMMARY:Family Movie Night - Sing 2
DESCRIPTION:
X-ALT-DESC:FMTTYPE=text/html:<!DOCTYPE HTML PUBLIC "-//W3C//DTD HTML 3.2//E
 N"><HTML></HTML>
CREATED;TZID=Asia/Seoul:20220621T091743
URL;VALUE=URI:https://daegu.armymwr.com/calendar/event
DTSTART;TZID=Asia/Seoul:20220727T173000
DTEND;TZID=Asia/Seoul:20220727T190000
SEQUENCE:0
END:VEVENT
END:VCALENDAR
