BEGIN:VCALENDAR
VERSION:2.0
PRODID:-//Sabre//Sabre VObject 4.5.8//EN
CALSCALE:GREGORIAN
BEGIN:VEVENT
UID:sabre-vobject-48a0d890-dcd7-4edc-afc7-028b97e76393
DTSTAMP:20260423T190450Z
SUMMARY:Kids Bowl FREE
DESCRIPTION:
X-ALT-DESC:FMTTYPE=text/html:<!DOCTYPE HTML PUBLIC "-//W3C//DTD HTML 3.2//E
 N"><HTML></HTML>
CREATED;TZID=Asia/Seoul:20220613T105010
URL;VALUE=URI:https://daegu.armymwr.com/calendar/event
DTSTART;TZID=Asia/Seoul:20220615T110000
DTEND;TZID=Asia/Seoul:20220615T160000
SEQUENCE:0
END:VEVENT
END:VCALENDAR
