BEGIN:VCALENDAR
VERSION:2.0
PRODID:-//Sabre//Sabre VObject 4.5.8//EN
CALSCALE:GREGORIAN
BEGIN:VEVENT
UID:sabre-vobject-e24ba444-9bb3-4e4f-abef-e99107ac2615
DTSTAMP:20260425T200318Z
SUMMARY:FAMILY PACK -BEER BATTERED FRIED FISH & CHIPS
DESCRIPTION:
X-ALT-DESC:FMTTYPE=text/html:<!DOCTYPE HTML PUBLIC "-//W3C//DTD HTML 3.2//E
 N"><HTML></HTML>
CREATED;TZID=Asia/Seoul:20220627T082146
URL;VALUE=URI:https://daegu.armymwr.com/calendar/event
DTSTART;TZID=Asia/Seoul:20220603T160000
DTEND;TZID=Asia/Seoul:20220603T200000
SEQUENCE:0
END:VEVENT
END:VCALENDAR
