BEGIN:VCALENDAR
VERSION:2.0
PRODID:-//Sabre//Sabre VObject 4.5.8//EN
CALSCALE:GREGORIAN
BEGIN:VEVENT
UID:sabre-vobject-15872331-15a0-422a-811f-da2967044204
DTSTAMP:20260420T002509Z
SUMMARY:Zumba
DESCRIPTION:
X-ALT-DESC:FMTTYPE=text/html:<!DOCTYPE HTML PUBLIC "-//W3C//DTD HTML 3.2//E
 N"><HTML></HTML>
CREATED;TZID=Asia/Seoul:20221221T083605
URL;VALUE=URI:https://daegu.armymwr.com/calendar/event
DTSTART;TZID=Asia/Seoul:20220307T180000
DTEND;TZID=Asia/Seoul:20220307T190000
SEQUENCE:0
END:VEVENT
END:VCALENDAR
