BEGIN:VCALENDAR
VERSION:2.0
PRODID:-//Sabre//Sabre VObject 4.5.8//EN
CALSCALE:GREGORIAN
BEGIN:VEVENT
UID:sabre-vobject-5f61d517-4637-409a-8c0f-5bc737f1e68b
DTSTAMP:20260420T002509Z
SUMMARY:Zumba with Jenny
DESCRIPTION:
X-ALT-DESC:FMTTYPE=text/html:<!DOCTYPE HTML PUBLIC "-//W3C//DTD HTML 3.2//E
 N"><HTML></HTML>
CREATED;TZID=Asia/Seoul:20221221T083641
URL;VALUE=URI:https://daegu.armymwr.com/calendar/event
DTSTART;TZID=Asia/Seoul:20220307T180000
DTEND;TZID=Asia/Seoul:20220307T190000
SEQUENCE:0
END:VEVENT
END:VCALENDAR
