BEGIN:VCALENDAR
VERSION:2.0
PRODID:-//Sabre//Sabre VObject 4.5.8//EN
CALSCALE:GREGORIAN
BEGIN:VEVENT
UID:sabre-vobject-a5ad3bc9-b014-4554-85f5-127873d0577f
DTSTAMP:20260425T231416Z
SUMMARY:Bamboo Forest Festival (Damyang)
DESCRIPTION:
X-ALT-DESC:FMTTYPE=text/html:<!DOCTYPE HTML PUBLIC "-//W3C//DTD HTML 3.2//E
 N"><HTML></HTML>
CREATED;TZID=Asia/Seoul:20260420T164430
URL;VALUE=URI:https://daegu.armymwr.com/calendar/event
DTSTART;TZID=Asia/Seoul:20260502T000000
DTEND;TZID=Asia/Seoul:20260502T235959
SEQUENCE:0
END:VEVENT
END:VCALENDAR
