BEGIN:VCALENDAR
VERSION:2.0
PRODID:-//Sabre//Sabre VObject 4.5.8//EN
CALSCALE:GREGORIAN
BEGIN:VEVENT
UID:sabre-vobject-60a2b587-8124-4eab-887c-d9fcd783e423
DTSTAMP:20260423T090813Z
SUMMARY:Beautiful JEJU Island Tour
DESCRIPTION:
X-ALT-DESC:FMTTYPE=text/html:<!DOCTYPE HTML PUBLIC "-//W3C//DTD HTML 3.2//E
 N"><HTML></HTML>
CREATED;TZID=Asia/Seoul:20260218T111458
URL;VALUE=URI:https://daegu.armymwr.com/calendar/event
DTSTART;TZID=Asia/Seoul:20260425T000000
DTEND;TZID=Asia/Seoul:20260427T235959
SEQUENCE:0
END:VEVENT
END:VCALENDAR
