BEGIN:VCALENDAR
VERSION:2.0
PRODID:-//Sabre//Sabre VObject 4.5.8//EN
CALSCALE:GREGORIAN
BEGIN:VEVENT
UID:sabre-vobject-4e2b7475-cfee-4637-baa9-1c3c4c40c1cf
DTSTAMP:20260421T145236Z
SUMMARY:FAP ANNUAL TROOP TRAINING 
DESCRIPTION:
X-ALT-DESC:FMTTYPE=text/html:<!DOCTYPE HTML PUBLIC "-//W3C//DTD HTML 3.2//E
 N"><HTML></HTML>
CREATED;TZID=Asia/Seoul:20251230T085955
URL;VALUE=URI:https://daegu.armymwr.com/calendar/event
DTSTART;TZID=Asia/Seoul:20260121T090000
DTEND;TZID=Asia/Seoul:20260121T103000
SEQUENCE:0
END:VEVENT
END:VCALENDAR
