BEGIN:VCALENDAR
VERSION:2.0
PRODID:-//Sabre//Sabre VObject 4.5.8//EN
CALSCALE:GREGORIAN
BEGIN:VEVENT
UID:sabre-vobject-3b0d3402-ed92-4411-b87b-cb439812a40e
DTSTAMP:20260420T194856Z
SUMMARY:NPSP/ EFMP PLAY MORNING 0-5 YEARS
DESCRIPTION:
X-ALT-DESC:FMTTYPE=text/html:<!DOCTYPE HTML PUBLIC "-//W3C//DTD HTML 3.2//E
 N"><HTML></HTML>
CREATED;TZID=Asia/Seoul:20251230T084605
URL;VALUE=URI:https://daegu.armymwr.com/calendar/event
DTSTART;TZID=Asia/Seoul:20260120T100000
DTEND;TZID=Asia/Seoul:20260120T110000
SEQUENCE:0
END:VEVENT
END:VCALENDAR
