BEGIN:VCALENDAR
VERSION:2.0
PRODID:-//Sabre//Sabre VObject 4.5.8//EN
CALSCALE:GREGORIAN
BEGIN:VEVENT
UID:sabre-vobject-02b15583-c7df-4bb3-a525-f32f36be1af5
DTSTAMP:20260420T194855Z
SUMMARY:Pass Dribble & Shoot Competition
DESCRIPTION:
X-ALT-DESC:FMTTYPE=text/html:<!DOCTYPE HTML PUBLIC "-//W3C//DTD HTML 3.2//E
 N"><HTML></HTML>
CREATED;TZID=Asia/Seoul:20260113T165426
URL;VALUE=URI:https://daegu.armymwr.com/calendar/event
DTSTART;TZID=Asia/Seoul:20260117T100000
DTEND;TZID=Asia/Seoul:20260117T130000
SEQUENCE:0
END:VEVENT
END:VCALENDAR
