BEGIN:VCALENDAR
VERSION:2.0
PRODID:-//Sabre//Sabre VObject 4.5.8//EN
CALSCALE:GREGORIAN
BEGIN:VEVENT
UID:sabre-vobject-f72a5b69-774a-4785-8acd-5c658ed5936f
DTSTAMP:20260424T083251Z
SUMMARY:Turkey Trot
DESCRIPTION:
X-ALT-DESC:FMTTYPE=text/html:<!DOCTYPE HTML PUBLIC "-//W3C//DTD HTML 3.2//E
 N"><HTML></HTML>
CREATED;TZID=Asia/Seoul:20251113T101508
URL;VALUE=URI:https://daegu.armymwr.com/calendar/event
DTSTART;TZID=Asia/Seoul:20251127T080000
DTEND;TZID=Asia/Seoul:20251127T100000
SEQUENCE:0
END:VEVENT
END:VCALENDAR
