BEGIN:VCALENDAR
VERSION:2.0
PRODID:-//Sabre//Sabre VObject 4.5.8//EN
CALSCALE:GREGORIAN
BEGIN:VEVENT
UID:sabre-vobject-7a0448d2-a2d9-45eb-96f7-0b3a9132c534
DTSTAMP:20260424T100406Z
SUMMARY:imAlone Workshop
DESCRIPTION:
X-ALT-DESC:FMTTYPE=text/html:<!DOCTYPE HTML PUBLIC "-//W3C//DTD HTML 3.2//E
 N"><HTML></HTML>
CREATED;TZID=Asia/Seoul:20251022T103909
URL;VALUE=URI:https://daegu.armymwr.com/calendar/event
DTSTART;TZID=Asia/Seoul:20251113T163000
DTEND;TZID=Asia/Seoul:20251113T180000
SEQUENCE:0
END:VEVENT
BEGIN:VEVENT
UID:sabre-vobject-fe2df8b2-5f22-44ec-84a5-e99819d44b25
DTSTAMP:20260424T100406Z
SUMMARY:imAlone Workshop
DESCRIPTION:
X-ALT-DESC:FMTTYPE=text/html:<!DOCTYPE HTML PUBLIC "-//W3C//DTD HTML 3.2//E
 N"><HTML></HTML>
CREATED;TZID=Asia/Seoul:20251022T103909
URL;VALUE=URI:https://daegu.armymwr.com/calendar/event
DTSTART;TZID=Asia/Seoul:20251114T163000
DTEND;TZID=Asia/Seoul:20251114T180000
SEQUENCE:1
END:VEVENT
END:VCALENDAR
