BEGIN:VCALENDAR
VERSION:2.0
PRODID:-//Sabre//Sabre VObject 4.5.8//EN
CALSCALE:GREGORIAN
BEGIN:VEVENT
UID:sabre-vobject-daabd46d-9e85-4c44-adb5-03972dbb9b27
DTSTAMP:20260423T175406Z
SUMMARY:Carroll Tree Lighting
DESCRIPTION:
X-ALT-DESC:FMTTYPE=text/html:<!DOCTYPE HTML PUBLIC "-//W3C//DTD HTML 3.2//E
 N"><HTML></HTML>
CREATED;TZID=Asia/Seoul:20251003T102426
URL;VALUE=URI:https://daegu.armymwr.com/calendar/event
DTSTART;TZID=Asia/Seoul:20251203T173000
DTEND;TZID=Asia/Seoul:20251203T184000
SEQUENCE:0
END:VEVENT
END:VCALENDAR
