BEGIN:VCALENDAR
VERSION:2.0
PRODID:-//Sabre//Sabre VObject 4.5.8//EN
CALSCALE:GREGORIAN
BEGIN:VEVENT
UID:sabre-vobject-178975e3-a37d-43b2-80e2-9c8d7fc20866
DTSTAMP:20260424T083243Z
SUMMARY:Veterans Free Bowling
DESCRIPTION:
X-ALT-DESC:FMTTYPE=text/html:<!DOCTYPE HTML PUBLIC "-//W3C//DTD HTML 3.2//E
 N"><HTML></HTML>
CREATED;TZID=Asia/Seoul:20251001T135238
URL;VALUE=URI:https://daegu.armymwr.com/calendar/event
DTSTART;TZID=Asia/Seoul:20251111T110000
DTEND;TZID=Asia/Seoul:20251111T210000
SEQUENCE:0
END:VEVENT
END:VCALENDAR
