BEGIN:VCALENDAR
VERSION:2.0
PRODID:-//Sabre//Sabre VObject 4.5.8//EN
CALSCALE:GREGORIAN
BEGIN:VEVENT
UID:sabre-vobject-80f192d1-310d-414d-8255-67d1aadc35df
DTSTAMP:20260424T174316Z
SUMMARY:Movie Monday at Hilltop!
DESCRIPTION:
X-ALT-DESC:FMTTYPE=text/html:<!DOCTYPE HTML PUBLIC "-//W3C//DTD HTML 3.2//E
 N"><HTML></HTML>
CREATED;TZID=Asia/Seoul:20250929T162614
URL;VALUE=URI:https://daegu.armymwr.com/calendar/event
DTSTART;TZID=Asia/Seoul:20251027T173000
DTEND;TZID=Asia/Seoul:20251027T193000
SEQUENCE:0
END:VEVENT
END:VCALENDAR
