BEGIN:VCALENDAR
VERSION:2.0
PRODID:-//Sabre//Sabre VObject 4.5.8//EN
CALSCALE:GREGORIAN
BEGIN:VEVENT
UID:sabre-vobject-3ddf03c0-05ee-48f1-bd3a-5a29c4a30c07
DTSTAMP:20260425T025737Z
SUMMARY:NPSP/EFMP FIRST PLAY MORNING 0-12 MONTHS
DESCRIPTION:
X-ALT-DESC:FMTTYPE=text/html:<!DOCTYPE HTML PUBLIC "-//W3C//DTD HTML 3.2//E
 N"><HTML></HTML>
CREATED;TZID=Asia/Seoul:20250912T164916
URL;VALUE=URI:https://daegu.armymwr.com/calendar/event
DTSTART;TZID=Asia/Seoul:20251008T100000
DTEND;TZID=Asia/Seoul:20251008T110000
SEQUENCE:0
END:VEVENT
BEGIN:VEVENT
UID:sabre-vobject-59ef9361-c92a-4e2a-96fa-042e05e6ce90
DTSTAMP:20260425T025737Z
SUMMARY:NPSP/EFMP FIRST PLAY MORNING 0-12 MONTHS
DESCRIPTION:
X-ALT-DESC:FMTTYPE=text/html:<!DOCTYPE HTML PUBLIC "-//W3C//DTD HTML 3.2//E
 N"><HTML></HTML>
CREATED;TZID=Asia/Seoul:20250912T164916
URL;VALUE=URI:https://daegu.armymwr.com/calendar/event
DTSTART;TZID=Asia/Seoul:20251015T100000
DTEND;TZID=Asia/Seoul:20251015T110000
SEQUENCE:1
END:VEVENT
BEGIN:VEVENT
UID:sabre-vobject-4cbb50c7-7e19-4f4f-a932-5d40dbb4a3a6
DTSTAMP:20260425T025737Z
SUMMARY:NPSP/EFMP FIRST PLAY MORNING 0-12 MONTHS
DESCRIPTION:
X-ALT-DESC:FMTTYPE=text/html:<!DOCTYPE HTML PUBLIC "-//W3C//DTD HTML 3.2//E
 N"><HTML></HTML>
CREATED;TZID=Asia/Seoul:20250912T164916
URL;VALUE=URI:https://daegu.armymwr.com/calendar/event
DTSTART;TZID=Asia/Seoul:20251023T100000
DTEND;TZID=Asia/Seoul:20251023T110000
SEQUENCE:2
END:VEVENT
END:VCALENDAR
