BEGIN:VCALENDAR
VERSION:2.0
PRODID:-//Sabre//Sabre VObject 4.5.8//EN
CALSCALE:GREGORIAN
BEGIN:VEVENT
UID:sabre-vobject-1406022b-0f9d-47bc-b337-de8392142e89
DTSTAMP:20260423T223219Z
SUMMARY:Black Friday Table Tennis Tournament
DESCRIPTION:
X-ALT-DESC:FMTTYPE=text/html:<!DOCTYPE HTML PUBLIC "-//W3C//DTD HTML 3.2//E
 N"><HTML></HTML>
CREATED;TZID=Asia/Seoul:20250904T154609
URL;VALUE=URI:https://daegu.armymwr.com/calendar/event
DTSTART;TZID=Asia/Seoul:20251128T143000
DTEND;TZID=Asia/Seoul:20251128T153000
SEQUENCE:0
END:VEVENT
END:VCALENDAR
