BEGIN:VCALENDAR
VERSION:2.0
PRODID:-//Sabre//Sabre VObject 4.5.8//EN
CALSCALE:GREGORIAN
BEGIN:VEVENT
UID:sabre-vobject-e13b2a45-e4fb-461b-a6d6-10617c38c24d
DTSTAMP:20260425T025716Z
SUMMARY:SYDNEY\, AUSTRALIA
DESCRIPTION:
X-ALT-DESC:FMTTYPE=text/html:<!DOCTYPE HTML PUBLIC "-//W3C//DTD HTML 3.2//E
 N"><HTML></HTML>
CREATED;TZID=Asia/Seoul:20250821T164405
URL;VALUE=URI:https://daegu.armymwr.com/calendar/event
DTSTART;TZID=Asia/Seoul:20251106T000000
DTEND;TZID=Asia/Seoul:20251111T235959
SEQUENCE:0
END:VEVENT
END:VCALENDAR
